BEGIN:VCALENDAR
VERSION:2.0
PRODID:-//A-CX - ECPv6.15.19//NONSGML v1.0//EN
CALSCALE:GREGORIAN
METHOD:PUBLISH
X-WR-CALNAME:A-CX
X-ORIGINAL-URL:https://www.a-cx.com
X-WR-CALDESC:Events for A-CX
REFRESH-INTERVAL;VALUE=DURATION:PT1H
X-Robots-Tag:noindex
X-PUBLISHED-TTL:PT1H
BEGIN:VTIMEZONE
TZID:America/Los_Angeles
BEGIN:DAYLIGHT
TZOFFSETFROM:-0800
TZOFFSETTO:-0700
TZNAME:PDT
DTSTART:20240310T100000
END:DAYLIGHT
BEGIN:STANDARD
TZOFFSETFROM:-0700
TZOFFSETTO:-0800
TZNAME:PST
DTSTART:20241103T090000
END:STANDARD
BEGIN:DAYLIGHT
TZOFFSETFROM:-0800
TZOFFSETTO:-0700
TZNAME:PDT
DTSTART:20250309T100000
END:DAYLIGHT
BEGIN:STANDARD
TZOFFSETFROM:-0700
TZOFFSETTO:-0800
TZNAME:PST
DTSTART:20251102T090000
END:STANDARD
BEGIN:DAYLIGHT
TZOFFSETFROM:-0800
TZOFFSETTO:-0700
TZNAME:PDT
DTSTART:20260308T100000
END:DAYLIGHT
BEGIN:STANDARD
TZOFFSETFROM:-0700
TZOFFSETTO:-0800
TZNAME:PST
DTSTART:20261101T090000
END:STANDARD
BEGIN:DAYLIGHT
TZOFFSETFROM:-0800
TZOFFSETTO:-0700
TZNAME:PDT
DTSTART:20270314T100000
END:DAYLIGHT
BEGIN:STANDARD
TZOFFSETFROM:-0700
TZOFFSETTO:-0800
TZNAME:PST
DTSTART:20271107T090000
END:STANDARD
END:VTIMEZONE
BEGIN:VEVENT
DTSTART;TZID=America/Los_Angeles:20260407T080000
DTEND;TZID=America/Los_Angeles:20260407T130000
DTSTAMP:20260420T023327
CREATED:20260402T203526Z
LAST-MODIFIED:20260402T233949Z
UID:10000023-1775548800-1775566800@www.a-cx.com
SUMMARY:A-CX @accelerateAZ Expo 2026
DESCRIPTION:A-CX is excited to join Plug and Play’s accelerateAZ Expo at the inaugural Arizona Tech Week – a landmark gathering that brings together industry leaders\, visionary investors\, and the next generation of rising entrepreneurs driving Arizona’s tech surge.The accelerateAZ Expo features a curated program of panels and conversations focused on the evolving venture landscape – with a central theme of Scaling Industrial Tech. Arizona’s unique strengths in manufacturing and sustainability make it an ideal environment for hardware-intensive and complex technologies to move from prototype to global market. \n\n\n\nWe look forward to engaging with the innovators and investors advancing breakthrough science toward commercial success. Events like accelerateAZ are exactly where A-CX’s mission – crafting impactful\, customer-centered digital experiences – connects with the startups and enterprises building what’s next. \n\n\n\n📩 For more information about the expo: arizona@pnptc.com🔗 Learn more about Arizona Tech Week: https://www.arizonatechweek.com  \n\n\n\nLatest thinking on AI and digital innovation → https://www.a-cx.com/blog \n\n\n\n\n\nWe’re excited to engage with thought leaders and learn from emerging trends that inspire our mission of crafting exceptional\, customer-centered experiences.
URL:https://www.a-cx.com/event/a-cx-accelerateaz-expo-2026/
LOCATION:On Jackson\, 245 E Jackson St\, Phoenix\, Arizona\, 85004\, United States
CATEGORIES:Expos
ATTACH;FMTTYPE=image/png:https://www.a-cx.com/wp-content/uploads/2026/04/Event-Image-Templates-to-Website-1.png
END:VEVENT
BEGIN:VEVENT
DTSTART;TZID=America/Los_Angeles:20260311T220000
DTEND;TZID=America/Los_Angeles:20260313T215959
DTSTAMP:20260420T023327
CREATED:20260312T160423Z
LAST-MODIFIED:20260312T160433Z
UID:10000022-1773266400-1773439199@www.a-cx.com
SUMMARY:A-CX @SXSW 2026
DESCRIPTION:A-CX is excited to participate in SXSW 2026 in Austin\, Texas\, where technology\, media\, culture\, and innovation converge for one of the world’s most influential conferences. \n\n\n\nFrom March 12–13\, Mikko Peltola will be attending SXSW to connect with innovators\, startups\, and industry leaders shaping the future of digital experiences and customer engagement. \n\n\n\nSXSW brings together thousands of founders\, creators\, technologists\, and executives for a week of panels\, networking\, and groundbreaking ideas spanning technology\, media\, film\, music\, and entrepreneurship. \n\n\n\n\n\nWe’re excited to engage with thought leaders and learn from emerging trends that inspire our mission of crafting exceptional\, customer-centered experiences. CES 2026 promises to be a valuable opportunity for A-CX to deepen our industry connections and insights.
URL:https://www.a-cx.com/event/a-cx-sxsw-2026/
LOCATION:Arizona
CATEGORIES:Expos
ATTACH;FMTTYPE=image/png:https://www.a-cx.com/wp-content/uploads/2026/03/A-CX-SXSW-2026-web-scaled.png
END:VEVENT
BEGIN:VEVENT
DTSTART;TZID=America/Los_Angeles:20260105T160000
DTEND;TZID=America/Los_Angeles:20260109T170000
DTSTAMP:20260420T023327
CREATED:20251130T211618Z
LAST-MODIFIED:20251130T215825Z
UID:10000020-1767628800-1767978000@www.a-cx.com
SUMMARY:A-CX @CES 2026
DESCRIPTION:A-CX is thrilled to attend CES 2026\, where we’ll connect with industry experts\, explore the latest innovations\, and reconnect with colleagues old and new. Our team looks forward to meaningful discussions that help us stay at the forefront of customer experience innovation\, drawing insights from this dynamic event to continue driving impactful solutions. \n\n\n\n\n\nWe’re excited to engage with thought leaders and learn from emerging trends that inspire our mission of crafting exceptional\, customer-centered experiences. CES 2026 promises to be a valuable opportunity for A-CX to deepen our industry connections and insights.
URL:https://www.a-cx.com/event/a-cx-ces-2026/
LOCATION:Las Vegas Convention Center\, 3150 Paradise Road\, Las Vegas\, NV\, 89109\, United States
CATEGORIES:Expos
ATTACH;FMTTYPE=image/png:https://www.a-cx.com/wp-content/uploads/2025/11/A-CX-CES-2026-Web-1-scaled.png
END:VEVENT
BEGIN:VEVENT
DTSTART;TZID=America/Los_Angeles:20250106T160000
DTEND;TZID=America/Los_Angeles:20250110T170000
DTSTAMP:20260420T023327
CREATED:20241029T202424Z
LAST-MODIFIED:20241210T041854Z
UID:10000001-1736179200-1736528400@www.a-cx.com
SUMMARY:A-CX @CES 2025
DESCRIPTION:A-CX is thrilled to attend CES 2025\, where we’ll connect with industry experts\, explore the latest innovations\, and reconnect with colleagues old and new. Our team looks forward to meaningful discussions that help us stay at the forefront of customer experience innovation\, drawing insights from this dynamic event to continue driving impactful solutions. \n\n\n\n\n\nWe’re excited to engage with thought leaders and learn from emerging trends that inspire our mission of crafting exceptional\, customer-centered experiences. CES 2025 promises to be a valuable opportunity for A-CX to deepen our industry connections and insights.
URL:https://www.a-cx.com/event/a-cx-ces-2025/
LOCATION:Las Vegas Convention Center\, 3150 Paradise Road\, Las Vegas\, NV\, 89109\, United States
CATEGORIES:Expos
ATTACH;FMTTYPE=image/png:https://www.a-cx.com/wp-content/uploads/2024/11/A-CX-CES-image-2025.png
END:VEVENT
END:VCALENDAR